BEGIN:VCALENDAR
VERSION:2.0
PRODID:SchoolNow
CALSCALE:GREGORIAN
BEGIN:VEVENT
UID:df18c806-2ddc-11f1-9786-0affd9a204a9
DTSTAMP:20260425T110008Z
SUMMARY:Budget Coffee
LOCATION:SEL Room
URL;VALUE=URI:https://www.hamiltoncentral.org/calendar/8963344/budget-coffe
 e
DTSTART:20260401T160000Z
DTEND:20260401T170000Z
END:VEVENT
END:VCALENDAR
