BEGIN:VCALENDAR
VERSION:2.0
PRODID:SchoolNow
CALSCALE:GREGORIAN
BEGIN:VEVENT
UID:df18bef6-2ddc-11f1-bb32-0affd9a204a9
DTSTAMP:20260425T110008Z
SUMMARY:Special Board of Education Meeting
URL;VALUE=URI:https://www.hamiltoncentral.org/calendar/8963341/special-boar
 d-of-education-meeting
DTSTART:20260402T210000Z
DTEND:20260402T220000Z
END:VEVENT
END:VCALENDAR
